BEGIN:VCALENDAR
VERSION:2.0
PRODID:-//Plone.org//NONSGML plone.app.event//EN
X-WR-TIMEZONE:Europe/Berlin
BEGIN:VEVENT
SUMMARY:Schwörmontag
DTSTART;TZID=Europe/Berlin;VALUE=DATE-TIME:20260720T074500
DTEND;TZID=Europe/Berlin;VALUE=DATE-TIME:20260720T100000
DTSTAMP;VALUE=DATE-TIME:20260425T205220Z
UID:78c598b0643141e28b37072e67ab4a4c
CONTACT:Susan Sprandel\, 0731 161-8128\, merian-gs@ulm.de
CREATED;VALUE=DATE-TIME:20171120T181003Z
DESCRIPTION:Der Unterricht an Schwörmontag findet nur von 7.45 bzw. 8.35 
 Uhr bis 10.00 Uhr statt. Die Frühbetreuung der Schulkindbetreuung findet 
 ebenfalls statt. Jedoch wird es im Anschluss an den Unterricht ab 10.00 Uh
 r keine Betreuung mehr geben für den Ulmer Feiertag.
LAST-MODIFIED;VALUE=DATE-TIME:20250916T101350Z
URL:https://www.merian-grundschule-ulm.de/events/schwoermontag-1
END:VEVENT
BEGIN:VTIMEZONE
TZID:Europe/Berlin
X-LIC-LOCATION:Europe/Berlin
BEGIN:DAYLIGHT
DTSTART;VALUE=DATE-TIME:20260329T030000
TZNAME:CEST
TZOFFSETFROM:+0100
TZOFFSETTO:+0200
END:DAYLIGHT
END:VTIMEZONE
END:VCALENDAR
