BEGIN:VCALENDAR
VERSION:2.0
PRODID:-//Plone.org//NONSGML plone.app.event//EN
X-WR-TIMEZONE:Europe/Berlin
BEGIN:VEVENT
SUMMARY:Spiele-Vormittag
DTSTART;TZID=Europe/Berlin;VALUE=DATE-TIME:20260728T103500
DTEND;TZID=Europe/Berlin;VALUE=DATE-TIME:20260728T121000
DTSTAMP;VALUE=DATE-TIME:20260425T205219Z
UID:ae339e3c6f234fe0bef11b96860b181a
CONTACT:Susan Sprandel\, 0731 161-8128\, merian-gs@ulm.de
CREATED;VALUE=DATE-TIME:20171120T181359Z
DESCRIPTION:Wir spielen Gesellschaftsspiele von 10.35 - 12.10 Uhr!Unterric
 htsschluss für alle Klassen ist um 12.10 Uhr. Die 6. Stunde fällt wegen 
 hoher Temperaturen in den Räumen der Schule aus!
LAST-MODIFIED;VALUE=DATE-TIME:20250916T101824Z
LOCATION:Schulhaus
URL:https://www.merian-grundschule-ulm.de/events/spiele-tag-2
END:VEVENT
BEGIN:VTIMEZONE
TZID:Europe/Berlin
X-LIC-LOCATION:Europe/Berlin
BEGIN:DAYLIGHT
DTSTART;VALUE=DATE-TIME:20260329T030000
TZNAME:CEST
TZOFFSETFROM:+0100
TZOFFSETTO:+0200
END:DAYLIGHT
END:VTIMEZONE
END:VCALENDAR
